BEGIN:VCALENDAR
VERSION:2.0
PRODID:-//WorkSpace Interiors - ECPv5.14.1//NONSGML v1.0//EN
CALSCALE:GREGORIAN
METHOD:PUBLISH
X-WR-CALNAME:WorkSpace Interiors
X-ORIGINAL-URL:https://www.workspaceinteriors.com
X-WR-CALDESC:Events for WorkSpace Interiors
BEGIN:VTIMEZONE
TZID:America/New_York
BEGIN:DAYLIGHT
TZOFFSETFROM:-0500
TZOFFSETTO:-0400
TZNAME:EDT
DTSTART:20190310T070000
END:DAYLIGHT
BEGIN:STANDARD
TZOFFSETFROM:-0400
TZOFFSETTO:-0500
TZNAME:EST
DTSTART:20191103T060000
END:STANDARD
END:VTIMEZONE
BEGIN:VEVENT
DTSTART;VALUE=DATE:20190603
DTEND;VALUE=DATE:20190604
DTSTAMP:20260421T080710
CREATED:20190919T141152Z
LAST-MODIFIED:20201006T154107Z
UID:61446-1559520000-1559606399@www.workspaceinteriors.com
SUMMARY:Kingsport Chamber of Commerce 27th Annual Golf Scramble
DESCRIPTION: 
URL:https://www.workspaceinteriors.com/event/kingsport-chamber-commerce-27th-annual-golf-scramble-2/
LOCATION:Ridgefields (kingsport\, TN)
CATEGORIES:attendee
END:VEVENT
END:VCALENDAR